Workbook

Sheet Registo de aulas
A1: Data | B1: Professor | C1: Disciplina | D1: Turma / aluno | E1: Início | F1: Fim | G1: Duração (h) | H1: Dada? | I1: Observações
A2: 46301 | B2: Prof. Rui Matos | C2: Matemática | D2: 9.º | E2: 0.66666667 | F2: 0.70833333 | G2: =IF(AND(E2<>"",F2<>"",H2="Sim"),(F2-E2)*24,0) | H2: Sim | I2: Exemplo: apague esta linha
A3: 46302 | B3: Prof. Rui Matos | C3: Matemática | D3: 9.º A | E3: 0.66666667 | F3: 0.72916667 | G3: =IF(AND(E3<>"",F3<>"",H3="Sim"),(F3-E3)*24,0) | H3: Sim | I3: Exemplo: apague esta linha
A4: 46302 | B4: Prof. Tiago Reis | C4: Inglês | D4: Individual | E4: 0.66666667 | F4: 0.70833333 | G4: =IF(AND(E4<>"",F4<>"",H4="Sim"),(F4-E4)*24,0) | H4: Sim | I4: Exemplo: apague esta linha
G5: =IF(AND(E5<>"",F5<>"",H5="Sim"),(F5-E5)*24,0)
G6: =IF(AND(E6<>"",F6<>"",H6="Sim"),(F6-E6)*24,0)
G7: =IF(AND(E7<>"",F7<>"",H7="Sim"),(F7-E7)*24,0)
G8: =IF(AND(E8<>"",F8<>"",H8="Sim"),(F8-E8)*24,0)
G9: =IF(AND(E9<>"",F9<>"",H9="Sim"),(F9-E9)*24,0)
G10: =IF(AND(E10<>"",F10<>"",H10="Sim"),(F10-E10)*24,0)
G11: =IF(AND(E11<>"",F11<>"",H11="Sim"),(F11-E11)*24,0)
G12: =IF(AND(E12<>"",F12<>"",H12="Sim"),(F12-E12)*24,0)
G13: =IF(AND(E13<>"",F13<>"",H13="Sim"),(F13-E13)*24,0)
G14: =IF(AND(E14<>"",F14<>"",H14="Sim"),(F14-E14)*24,0)
G15: =IF(AND(E15<>"",F15<>"",H15="Sim"),(F15-E15)*24,0)
G16: =IF(AND(E16<>"",F16<>"",H16="Sim"),(F16-E16)*24,0)
... G301: =IF(AND(E301<>"",F301<>"",H301="Sim"),(F301-E301)*24,0)

Sheet Resumo do mês
A1: Professor | B1: Regra | C1: Valor (€) | D1: Horas dadas | E1: Aulas dadas | F1: A pagar (€) | G1: Observações
A2: Prof. Rui Matos | B2: Por hora | C2: 15 | D2: =IF(A2="","",SUMIFS('Registo de aulas'!$G:$G,'Registo de aulas'!$B:$B,A2)) | E2: =IF(A2="","",COUNTIFS('Registo de aulas'!$B:$B,A2,'Registo de aulas'!$H:$H,"Sim")) | F2: =IF(A2="","",IF(B2="Por hora",C2*D2,IF(B2="Por aula",C2*E2,C2))) | G2: Exemplo: apague esta linha
A3: Prof. Tiago Reis | B3: Por hora | C3: 14 | D3: =IF(A3="","",SUMIFS('Registo de aulas'!$G:$G,'Registo de aulas'!$B:$B,A3)) | E3: =IF(A3="","",COUNTIFS('Registo de aulas'!$B:$B,A3,'Registo de aulas'!$H:$H,"Sim")) | F3: =IF(A3="","",IF(B3="Por hora",C3*D3,IF(B3="Por aula",C3*E3,C3))) | G3: Exemplo: apague esta linha
A4: Prof.ª Inês Carvalho | B4: Valor fixo | C4: 950 | D4: =IF(A4="","",SUMIFS('Registo de aulas'!$G:$G,'Registo de aulas'!$B:$B,A4)) | E4: =IF(A4="","",COUNTIFS('Registo de aulas'!$B:$B,A4,'Registo de aulas'!$H:$H,"Sim")) | F4: =IF(A4="","",IF(B4="Por hora",C4*D4,IF(B4="Por aula",C4*E4,C4))) | G4: Exemplo: apague esta linha
D5: =IF(A5="","",SUMIFS('Registo de aulas'!$G:$G,'Registo de aulas'!$B:$B,A5)) | E5: =IF(A5="","",COUNTIFS('Registo de aulas'!$B:$B,A5,'Registo de aulas'!$H:$H,"Sim")) | F5: =IF(A5="","",IF(B5="Por hora",C5*D5,IF(B5="Por aula",C5*E5,C5)))
D6: =IF(A6="","",SUMIFS('Registo de aulas'!$G:$G,'Registo de aulas'!$B:$B,A6)) | E6: =IF(A6="","",COUNTIFS('Registo de aulas'!$B:$B,A6,'Registo de aulas'!$H:$H,"Sim")) | F6: =IF(A6="","",IF(B6="Por hora",C6*D6,IF(B6="Por aula",C6*E6,C6)))
D7: =IF(A7="","",SUMIFS('Registo de aulas'!$G:$G,'Registo de aulas'!$B:$B,A7)) | E7: =IF(A7="","",COUNTIFS('Registo de aulas'!$B:$B,A7,'Registo de aulas'!$H:$H,"Sim")) | F7: =IF(A7="","",IF(B7="Por hora",C7*D7,IF(B7="Por aula",C7*E7,C7)))
D8: =IF(A8="","",SUMIFS('Registo de aulas'!$G:$G,'Registo de aulas'!$B:$B,A8)) | E8: =IF(A8="","",COUNTIFS('Registo de aulas'!$B:$B,A8,'Registo de aulas'!$H:$H,"Sim")) | F8: =IF(A8="","",IF(B8="Por hora",C8*D8,IF(B8="Por aula",C8*E8,C8)))
D9: =IF(A9="","",SUMIFS('Registo de aulas'!$G:$G,'Registo de aulas'!$B:$B,A9)) | E9: =IF(A9="","",COUNTIFS('Registo de aulas'!$B:$B,A9,'Registo de aulas'!$H:$H,"Sim")) | F9: =IF(A9="","",IF(B9="Por hora",C9*D9,IF(B9="Por aula",C9*E9,C9)))
D10: =IF(A10="","",SUMIFS('Registo de aulas'!$G:$G,'Registo de aulas'!$B:$B,A10)) | E10: =IF(A10="","",COUNTIFS('Registo de aulas'!$B:$B,A10,'Registo de aulas'!$H:$H,"Sim")) | F10: =IF(A10="","",IF(B10="Por hora",C10*D10,IF(B10="Por aula",C10*E10,C10)))
D11: =IF(A11="","",SUMIFS('Registo de aulas'!$G:$G,'Registo de aulas'!$B:$B,A11)) | E11: =IF(A11="","",COUNTIFS('Registo de aulas'!$B:$B,A11,'Registo de aulas'!$H:$H,"Sim")) | F11: =IF(A11="","",IF(B11="Por hora",C11*D11,IF(B11="Por aula",C11*E11,C11)))
D12: =IF(A12="","",SUMIFS('Registo de aulas'!$G:$G,'Registo de aulas'!$B:$B,A12)) | E12: =IF(A12="","",COUNTIFS('Registo de aulas'!$B:$B,A12,'Registo de aulas'!$H:$H,"Sim")) | F12: =IF(A12="","",IF(B12="Por hora",C12*D12,IF(B12="Por aula",C12*E12,C12)))
D13: =IF(A13="","",SUMIFS('Registo de aulas'!$G:$G,'Registo de aulas'!$B:$B,A13)) | E13: =IF(A13="","",COUNTIFS('Registo de aulas'!$B:$B,A13,'Registo de aulas'!$H:$H,"Sim")) | F13: =IF(A13="","",IF(B13="Por hora",C13*D13,IF(B13="Por aula",C13*E13,C13)))
D14: =IF(A14="","",SUMIFS('Registo de aulas'!$G:$G,'Registo de aulas'!$B:$B,A14)) | E14: =IF(A14="","",COUNTIFS('Registo de aulas'!$B:$B,A14,'Registo de aulas'!$H:$H,"Sim")) | F14: =IF(A14="","",IF(B14="Por hora",C14*D14,IF(B14="Por aula",C14*E14,C14)))
D15: =IF(A15="","",SUMIFS('Registo de aulas'!$G:$G,'Registo de aulas'!$B:$B,A15)) | E15: =IF(A15="","",COUNTIFS('Registo de aulas'!$B:$B,A15,'Registo de aulas'!$H:$H,"Sim")) | F15: =IF(A15="","",IF(B15="Por hora",C15*D15,IF(B15="Por aula",C15*E15,C15)))
D16: =IF(A16="","",SUMIFS('Registo de aulas'!$G:$G,'Registo de aulas'!$B:$B,A16)) | E16: =IF(A16="","",COUNTIFS('Registo de aulas'!$B:$B,A16,'Registo de aulas'!$H:$H,"Sim")) | F16: =IF(A16="","",IF(B16="Por hora",C16*D16,IF(B16="Por aula",C16*E16,C16)))
... D31: =IF(A31="","",SUMIFS('Registo de aulas'!$G:$G,'Registo de aulas'!$B:$B,A31)) | E31: =IF(A31="","",COUNTIFS('Registo de aulas'!$B:$B,A31,'Registo de aulas'!$H:$H,"Sim")) | F31: =IF(A31="","",IF(B31="Por hora",C31*D31,IF(B31="Por aula",C31*E31,C31)))

Sheet Instruções
A1: Horas e pagamento dos professores
A3: 1. Em «Registo de aulas», uma linha por aula: data, professor, disciplina, turma ou aluno, início e fim. Marque «Dada?» como Sim ou Não (aula cancelada).
A4: 2. Em «Resumo do mês», escreva cada professor com a sua regra (por hora, por aula ou valor fixo) e o valor. As horas, as aulas e o valor a pagar são calculados sozinhos.
A5: 3. O valor a pagar é bruto: retenções, Segurança Social e recibos verdes tratam-se com a contabilidade.
A6: 4. Apague as linhas de exemplo (a amarelo) antes de começar.
A7: No oPonto, as horas saem das aulas concluídas, o fecho do mês guarda os totais e os vencimentos são calculados com a regra de cada professor. Quem está a recibos verdes vê o valor a faturar e envia a fatura-recibo pelo oPonto.
A10: Modelo gratuito do oPonto. Pode copiar, alterar e partilhar. As linhas a amarelo são exemplos de um centro fictício.
